BEGIN:VCALENDAR
VERSION:2.0
CALSCALE:GREGORIAN
PRODID:adamgibbons/ics
METHOD:PUBLISH
X-PUBLISHED-TTL:PT1H
BEGIN:VEVENT
UID:64@atlanta.askapunk.net
SUMMARY:Posición Unida / Painful Choice / Albuterol / Taxpayer
DTSTAMP:20260420T155145Z
DTSTART:20260520T230000Z
DTEND:20260521T030000Z
DESCRIPTION:All Ages\n\nHardcore punk
URL:https://atlanta.askapunk.net/event/posicion-unida-painful-choice-albute
	rol-taxpayer
LOCATION:South Bend Commons - 1799 Lakewood Terrace SE Atlanta\, GA 30315
STATUS:CONFIRMED
CATEGORIES:ALL AGES,ALBUTEROL,POSICION UNIDA,PAINFUL CHOICE,TAXPAYER
X-ALT-DESC;FMTTYPE=text/html:<p>All Ages</p><p>Hardcore punk</p>
BEGIN:VALARM
ACTION:DISPLAY
DESCRIPTION:Posición Unida / Painful Choice / Albuterol / Taxpayer
TRIGGER:-PT1H
END:VALARM
END:VEVENT
END:VCALENDAR
