BEGIN:VCALENDAR
VERSION:2.0
CALSCALE:GREGORIAN
PRODID:adamgibbons/ics
METHOD:PUBLISH
X-PUBLISHED-TTL:PT1H
BEGIN:VEVENT
UID:62@atlanta.askapunk.net
SUMMARY:Circuit Circuit\, Tower of Pines\, Muelas\, MEATMARK\, Wired to Ani
	mosity
DTSTAMP:20260420T154735Z
DTSTART:20260517T220000Z
DTEND:20260518T033000Z
DESCRIPTION:First show at THE BRICKYARD!!! New music venue right on the Mar
	ietta Square.\nStacked bill too come check us out
URL:https://atlanta.askapunk.net/event/circuit-circuit-tower-of-pines-muela
	s-meatmark-wired-to-animosity
LOCATION:The Brickyard - 129 Church St. Marietta\, Ga 30060
STATUS:CONFIRMED
CATEGORIES:
X-ALT-DESC;FMTTYPE=text/html:<p>First show at THE BRICKYARD!!! New music ve
	nue right on the Marietta Square. Stacked bill too come check us out</p>
BEGIN:VALARM
ACTION:DISPLAY
DESCRIPTION:Circuit Circuit, Tower of Pines, Muelas, MEATMARK, Wired to Ani
	mosity
TRIGGER:-PT1H
END:VALARM
END:VEVENT
END:VCALENDAR
